BEGIN:VCALENDAR
VERSION:2.0
PRODID:-//Shawnee Country Club - Shawnee, OK - ECPv6.15.20//NONSGML v1.0//EN
CALSCALE:GREGORIAN
METHOD:PUBLISH
X-ORIGINAL-URL:https://shawneecc.com
X-WR-CALDESC:Events for Shawnee Country Club - Shawnee, OK
REFRESH-INTERVAL;VALUE=DURATION:PT1H
X-Robots-Tag:noindex
X-PUBLISHED-TTL:PT1H
BEGIN:VTIMEZONE
TZID:UTC
BEGIN:STANDARD
TZOFFSETFROM:+0000
TZOFFSETTO:+0000
TZNAME:UTC
DTSTART:20250101T000000
END:STANDARD
END:VTIMEZONE
BEGIN:VEVENT
DTSTART;TZID=UTC:20260616T080000
DTEND;TZID=UTC:20260616T130000
DTSTAMP:20260423T194231
CREATED:20260226T173715Z
LAST-MODIFIED:20260226T173716Z
UID:3911-1781596800-1781614800@shawneecc.com
SUMMARY:Superintendents Tournament
DESCRIPTION:
URL:https://shawneecc.com/event/superintendents-tournament/
END:VEVENT
END:VCALENDAR