BEGIN:VCALENDAR
VERSION:2.0
PRODID:-//Shawnee Country Club - Shawnee, OK - ECPv6.15.20//NONSGML v1.0//EN
CALSCALE:GREGORIAN
METHOD:PUBLISH
X-WR-CALNAME:Shawnee Country Club - Shawnee, OK
X-ORIGINAL-URL:https://shawneecc.com
X-WR-CALDESC:Events for Shawnee Country Club - Shawnee, OK
REFRESH-INTERVAL;VALUE=DURATION:PT1H
X-Robots-Tag:noindex
X-PUBLISHED-TTL:PT1H
BEGIN:VTIMEZONE
TZID:UTC
BEGIN:STANDARD
TZOFFSETFROM:+0000
TZOFFSETTO:+0000
TZNAME:UTC
DTSTART:20250101T000000
END:STANDARD
END:VTIMEZONE
BEGIN:VEVENT
DTSTART;TZID=UTC:20260621T080000
DTEND;TZID=UTC:20260621T130000
DTSTAMP:20260425T134530
CREATED:20260226T173734Z
LAST-MODIFIED:20260226T173735Z
UID:3912-1782028800-1782046800@shawneecc.com
SUMMARY:Father’s Day Tournament
DESCRIPTION:
URL:https://shawneecc.com/event/fathers-day-tournament/
END:VEVENT
END:VCALENDAR