BEGIN:VCALENDAR
VERSION:2.0
PRODID:-//Shawnee Country Club - Shawnee, OK - ECPv6.15.20//NONSGML v1.0//EN
CALSCALE:GREGORIAN
METHOD:PUBLISH
X-WR-CALNAME:Shawnee Country Club - Shawnee, OK
X-ORIGINAL-URL:https://shawneecc.com
X-WR-CALDESC:Events for Shawnee Country Club - Shawnee, OK
REFRESH-INTERVAL;VALUE=DURATION:PT1H
X-Robots-Tag:noindex
X-PUBLISHED-TTL:PT1H
BEGIN:VTIMEZONE
TZID:UTC
BEGIN:STANDARD
TZOFFSETFROM:+0000
TZOFFSETTO:+0000
TZNAME:UTC
DTSTART:20250101T000000
END:STANDARD
END:VTIMEZONE
BEGIN:VEVENT
DTSTART;TZID=UTC:20260423T173000
DTEND;TZID=UTC:20260423T200000
DTSTAMP:20260422T092421
CREATED:20260331T221511Z
LAST-MODIFIED:20260331T221512Z
UID:3971-1776965400-1776974400@shawneecc.com
SUMMARY:Thursday Night Throwdown (TNT)
DESCRIPTION:
URL:https://shawneecc.com/event/thursday-night-throwdown-tnt-7/
END:VEVENT
BEGIN:VEVENT
DTSTART;TZID=UTC:20260424T170000
DTEND;TZID=UTC:20260424T210000
DTSTAMP:20260422T092421
CREATED:20260331T222043Z
LAST-MODIFIED:20260331T222051Z
UID:3976-1777050000-1777064400@shawneecc.com
SUMMARY:Friday Dinner Special
DESCRIPTION:Green Goddess Gnocchi: Served with a grilled chicken breast or shrimp
URL:https://shawneecc.com/event/friday-dinner-special-12/
END:VEVENT
BEGIN:VEVENT
DTSTART;TZID=UTC:20260425T000000
DTEND;TZID=UTC:20260425T235959
DTSTAMP:20260422T092421
CREATED:20260331T222920Z
LAST-MODIFIED:20260331T222921Z
UID:3986-1777075200-1777161599@shawneecc.com
SUMMARY:Member Event (Class Reunion)
DESCRIPTION:
URL:https://shawneecc.com/event/member-event-class-reunion/
END:VEVENT
BEGIN:VEVENT
DTSTART;TZID=UTC:20260425T080000
DTEND;TZID=UTC:20260425T130000
DTSTAMP:20260422T092421
CREATED:20260226T173359Z
LAST-MODIFIED:20260226T173401Z
UID:3904-1777104000-1777122000@shawneecc.com
SUMMARY:Emmanuel Baptist Church
DESCRIPTION:
URL:https://shawneecc.com/event/emmanuel-baptist-church/
END:VEVENT
BEGIN:VEVENT
DTSTART;TZID=UTC:20260425T080000
DTEND;TZID=UTC:20260425T133000
DTSTAMP:20260422T092421
CREATED:20260331T222849Z
LAST-MODIFIED:20260331T222850Z
UID:3985-1777104000-1777123800@shawneecc.com
SUMMARY:Immanuel Baptist Church Tournament
DESCRIPTION:(Member tee times begin at 1:30 PM)
URL:https://shawneecc.com/event/immanuel-baptist-church-tournament/
END:VEVENT
BEGIN:VEVENT
DTSTART;TZID=UTC:20260427T080000
DTEND;TZID=UTC:20260427T130000
DTSTAMP:20260422T092421
CREATED:20260226T173423Z
LAST-MODIFIED:20260226T173424Z
UID:3905-1777276800-1777294800@shawneecc.com
SUMMARY:Veterans Golfers Association
DESCRIPTION:
URL:https://shawneecc.com/event/veterans-golfers-association/
END:VEVENT
BEGIN:VEVENT
DTSTART;TZID=UTC:20260427T090000
DTEND;TZID=UTC:20260427T140000
DTSTAMP:20260422T092421
CREATED:20260331T222952Z
LAST-MODIFIED:20260401T051131Z
UID:3987-1777280400-1777298400@shawneecc.com
SUMMARY:Veterans Golfers Association
DESCRIPTION:
URL:https://shawneecc.com/event/veterans-golfers-association-2/
END:VEVENT
BEGIN:VEVENT
DTSTART;TZID=UTC:20260429T080000
DTEND;TZID=UTC:20260429T130000
DTSTAMP:20260422T092421
CREATED:20260226T173443Z
LAST-MODIFIED:20260226T173444Z
UID:3906-1777449600-1777467600@shawneecc.com
SUMMARY:OTEA Golf Tournament
DESCRIPTION:
URL:https://shawneecc.com/event/otea-golf-tournament/
END:VEVENT
BEGIN:VEVENT
DTSTART;TZID=UTC:20260430T173000
DTEND;TZID=UTC:20260430T200000
DTSTAMP:20260422T092421
CREATED:20260331T221533Z
LAST-MODIFIED:20260331T221534Z
UID:3972-1777570200-1777579200@shawneecc.com
SUMMARY:Thursday Night Throwdown (TNT)
DESCRIPTION:
URL:https://shawneecc.com/event/thursday-night-throwdown-tnt-8/
END:VEVENT
END:VCALENDAR